BEGIN:VCALENDAR
VERSION:2.0
PRODID:-//DreamMaker Bath &amp; Kitchen - ECPv6.15.20//NONSGML v1.0//EN
CALSCALE:GREGORIAN
METHOD:PUBLISH
X-WR-CALNAME:DreamMaker Bath &amp; Kitchen
X-ORIGINAL-URL:https://dreammakerspringfield.com
X-WR-CALDESC:Events for DreamMaker Bath &amp; Kitchen
REFRESH-INTERVAL;VALUE=DURATION:PT1H
X-Robots-Tag:noindex
X-PUBLISHED-TTL:PT1H
BEGIN:VTIMEZONE
TZID:UTC
BEGIN:STANDARD
TZOFFSETFROM:+0000
TZOFFSETTO:+0000
TZNAME:UTC
DTSTART:20220101T000000
END:STANDARD
END:VTIMEZONE
BEGIN:VEVENT
DTSTART;TZID=UTC:20230501T150000
DTEND;TZID=UTC:20230501T170000
DTSTAMP:20260420T131807
CREATED:20230112T214900Z
LAST-MODIFIED:20230515T223458Z
UID:4130-1682953200-1682960400@dreammakerspringfield.com
SUMMARY:Kitchen & Bathroom Design Seminar
DESCRIPTION:Remodeling your kitchen or bathroom is one of the best investments you can make in your home! But there is much more involved in achieving successful results than just a pretty design (although design is a must). It can be overwhelming\, and mistakes can cost thousands\, so let’s talk: \n\nFunction: Plan proper landing space\, clearances\, & storage for your family.\nMaterials: Discover on-trend materials that are also practical to live with.\nBudget: Avoid costly estimate mistakes and learn simple ways to save.\nTime Frame: Estimate your remodel length based on project scope and contractor type.\n\nSeminars are a way for our expert team to share their passion: creating kitchen and bath spaces that work well while looking fabulous! We’ll reveal the most valuable lessons we’ve learned from our 2000+ projects in the Springfield\, IL community. \nLearn all of this (and more) at our Kitchen & Bath Design Seminar! \nIt’s completely FREE. No obligation. No sales pitches. No strings attached! \nJust a great opportunity to learn more and be empowered to make great decisions. \nWe request an RSVP so that we can ensure proper staffing. After the presentation\, you will have an opportunity to ask questions and speak with a Designer about your project. (Are you an over achiever?  Snap some pics of your space to better illustrate what you are hoping to “fix”.)
URL:https://dreammakerspringfield.com/event/bathroom-remodeling-seminar/
ATTACH;FMTTYPE=image/jpeg:https://dreammakerspringfield.com/wp-content/uploads/2023/01/adj-Bascio-7-reduced_a8787cdf81105b21a5e4ebbf6b7371be.jpeg
END:VEVENT
END:VCALENDAR